BEGIN:VCALENDAR
VERSION:2.0
PRODID:-//pretix//tickets.local-it.org//
BEGIN:VTIMEZONE
TZID:Europe/Berlin
BEGIN:STANDARD
DTSTART:20001029T040000
RRULE:FREQ=YEARLY;BYDAY=-1SU;BYMONTH=10
TZNAME:CET
TZOFFSETFROM:+0200
TZOFFSETTO:+0100
END:STANDARD
BEGIN:DAYLIGHT
DTSTART:20000326T030000
RRULE:FREQ=YEARLY;BYDAY=-1SU;BYMONTH=3
TZNAME:CEST
TZOFFSETFROM:+0100
TZOFFSETTO:+0200
END:DAYLIGHT
END:VTIMEZONE
BEGIN:VEVENT
UID:pretix-lit-techutopia-0@tickets.local-it.org
DTSTART;TZID=Europe/Berlin:20260709T180000
DTEND;TZID=Europe/Berlin:20260712T150000
DESCRIPTION:Tickets: https://tickets.local-it.org/lit/techutopia/\nVeransta
 lter: Local-IT e.V.
DTSTAMP:20260424T161000Z
LOCATION:CAMPELSE e.V.\, Alte Försterei Borgsdorf 1\, 14828 Görzke
SUMMARY:Tech Utopia  - FLINTA*-only Barcamp 2026
END:VEVENT
END:VCALENDAR
